BEGIN:VCALENDAR
VERSION:2.0
PRODID:calendify.com
BEGIN:VEVENT
UID:calendify-session-QVx49oGbM2E
DTSTART:20200507T130500Z
SEQUENCE:0
TRANSP:OPAQUE
DTEND:20200507T132000Z
URL:https://calendify.com/session/QVx49oGbM2E
LOCATION:Deep Dive 2
SUMMARY:Deep Dive - Fake Facts - Wie Verschwörungsideologien unser Denken 
 bestimmen
CLASS:PUBLIC
DESCRIPTION:https://calendify.com/session/QVx49oGbM2E
DTSTAMP:20260420T111957Z
CREATED:20200505T102023Z
LAST-MODIFIED:20210113T190826Z
END:VEVENT
END:VCALENDAR