BEGIN:VCALENDAR
VERSION:2.0
PRODID:calendify.com
BEGIN:VEVENT
UID:calendify-session-QVx49oVpM2E
DTSTART:20190601T190000Z
SEQUENCE:0
TRANSP:OPAQUE
DTEND:20190601T200000Z
URL:https://calendify.com/session/QVx49oVpM2E
LOCATION:ZKM_CodeHUB
SUMMARY:microG: Einführung\, Setup und Support
CLASS:PUBLIC
DESCRIPTION:https://calendify.com/session/QVx49oVpM2E
DTSTAMP:20260422T023123Z
CREATED:20200509T115126Z
LAST-MODIFIED:20200509T115126Z
END:VEVENT
END:VCALENDAR