BEGIN:VCALENDAR
VERSION:2.0
PRODID:calendify.com
BEGIN:VEVENT
UID:calendify-session-QVx49oa0M2E
DTSTART:20200202T092000Z
SEQUENCE:0
TRANSP:OPAQUE
DTEND:20200202T094000Z
URL:https://calendify.com/session/QVx49oa0M2E
LOCATION:UD2.119
SUMMARY:New Java Features & Apache NetBeans
CLASS:PUBLIC
DESCRIPTION:https://calendify.com/session/QVx49oa0M2E
DTSTAMP:20260420T061206Z
CREATED:20200513T234735Z
LAST-MODIFIED:20210426T093310Z
END:VEVENT
END:VCALENDAR