BEGIN:VCALENDAR
VERSION:2.0
PRODID:calendify.com
BEGIN:VEVENT
UID:calendify-session-QVx49oyEM2E
DTSTART:20200202T150000Z
SEQUENCE:0
TRANSP:OPAQUE
DTEND:20200202T151500Z
URL:https://calendify.com/session/QVx49oyEM2E
LOCATION:H.2215 (Ferrer)
SUMMARY:NGI Zero: A treasure trove of tech awesome
CLASS:PUBLIC
DESCRIPTION:https://calendify.com/session/QVx49oyEM2E
DTSTAMP:20260422T164058Z
CREATED:20200513T234731Z
LAST-MODIFIED:20210426T093308Z
END:VEVENT
END:VCALENDAR