BEGIN:VCALENDAR
VERSION:2.0
PRODID:calendify.com
BEGIN:VEVENT
UID:calendify-session-QVx49r10O2E
DTSTART:20241227T110000Z
SEQUENCE:0
TRANSP:OPAQUE
DTEND:20241227T114000Z
URL:https://calendify.com/session/QVx49r10O2E
LOCATION:Saal ZIGZAG
SUMMARY:Police 2.0: Peaceful activism is terrorism and fakenews are facts
CLASS:PUBLIC
DESCRIPTION:https://calendify.com/session/QVx49r10O2E
DTSTAMP:20260425T123109Z
CREATED:20241208T214807Z
LAST-MODIFIED:20250101T225002Z
END:VEVENT
END:VCALENDAR