BEGIN:VCALENDAR
VERSION:2.0
PRODID:calendify.com
BEGIN:VEVENT
UID:calendify-session-QVx49rrPO2E
DTSTART:20240920T153000Z
SEQUENCE:0
TRANSP:OPAQUE
DTEND:20240920T170000Z
URL:https://calendify.com/session/QVx49rrPO2E
LOCATION:Henny Brenner Saal
SUMMARY:Jüdischer Anarchismus - Eine Einführung
CLASS:PUBLIC
DESCRIPTION:https://calendify.com/session/QVx49rrPO2E
DTSTAMP:20260422T143153Z
CREATED:20241208T220338Z
LAST-MODIFIED:20241208T220338Z
END:VEVENT
END:VCALENDAR