BEGIN:VCALENDAR
VERSION:2.0
PRODID:calendify.com
BEGIN:VEVENT
UID:calendify-session-QVx49rwRO2E
DTSTART:20240922T131500Z
SEQUENCE:0
TRANSP:OPAQUE
DTEND:20240922T140000Z
URL:https://calendify.com/session/QVx49rwRO2E
LOCATION:Henny Brenner Saal
SUMMARY:**give data back** Soll ichs wirklich machen oder lass ichs lieber 
 sein?
CLASS:PUBLIC
DESCRIPTION:https://calendify.com/session/QVx49rwRO2E
DTSTAMP:20260420T233237Z
CREATED:20241208T220338Z
LAST-MODIFIED:20241208T220338Z
END:VEVENT
END:VCALENDAR