BEGIN:VCALENDAR
VERSION:2.0
PRODID:calendify.com
BEGIN:VEVENT
UID:calendify-session-Qm5M1117MEz
DTSTART:20210206T111000Z
SEQUENCE:0
TRANSP:OPAQUE
DTEND:20210206T113500Z
URL:https://calendify.com/session/Qm5M1117MEz
LOCATION:D.hardware.trusted
SUMMARY:An Open-Source Framework for Developing Heterogeneous Distributed E
 nclave Applications
CLASS:PUBLIC
DESCRIPTION:https://calendify.com/session/Qm5M1117MEz
DTSTAMP:20260420T013039Z
CREATED:20210111T170318Z
LAST-MODIFIED:20210208T224802Z
END:VEVENT
END:VCALENDAR