BEGIN:VCALENDAR
VERSION:2.0
PRODID:calendify.com
BEGIN:VEVENT
UID:calendify-session-Qm5M11ErMEz
DTSTART:20210206T133500Z
SEQUENCE:0
TRANSP:OPAQUE
DTEND:20210206T140000Z
URL:https://calendify.com/session/Qm5M11ErMEz
LOCATION:D.rtc
SUMMARY:Abstract the SIP Handling Using the Call API
CLASS:PUBLIC
DESCRIPTION:https://calendify.com/session/Qm5M11ErMEz
DTSTAMP:20260419T211849Z
CREATED:20210113T115146Z
LAST-MODIFIED:20210208T224803Z
END:VEVENT
END:VCALENDAR