BEGIN:VCALENDAR
VERSION:2.0
PRODID:calendify.com
BEGIN:VEVENT
UID:calendify-session-Qm5M11QeMEz
DTSTART:20201227T165300Z
SEQUENCE:0
TRANSP:OPAQUE
DTEND:20201227T172500Z
URL:https://calendify.com/session/Qm5M11QeMEz
LOCATION:classics
SUMMARY:32c3 Ein Abgrund von Landesverrat
CLASS:PUBLIC
DESCRIPTION:https://calendify.com/session/Qm5M11QeMEz
DTSTAMP:20260423T110525Z
CREATED:20201230T143302Z
LAST-MODIFIED:20211226T143412Z
END:VEVENT
END:VCALENDAR