BEGIN:VCALENDAR
VERSION:2.0
PRODID:calendify.com
BEGIN:VEVENT
UID:calendify-session-Qm5M11XzMEz
DTSTART:20210207T150500Z
SEQUENCE:0
TRANSP:OPAQUE
DTEND:20210207T153500Z
URL:https://calendify.com/session/Qm5M11XzMEz
LOCATION:D.web.performance
SUMMARY:Building a greener web
CLASS:PUBLIC
DESCRIPTION:https://calendify.com/session/Qm5M11XzMEz
DTSTAMP:20260423T214725Z
CREATED:20210111T170320Z
LAST-MODIFIED:20210208T224804Z
END:VEVENT
END:VCALENDAR