BEGIN:VCALENDAR
VERSION:2.0
PRODID:calendify.com
BEGIN:VEVENT
UID:calendify-session-Qm5M11m6MEz
DTSTART:20210206T154500Z
SEQUENCE:0
TRANSP:OPAQUE
DTEND:20210206T163000Z
URL:https://calendify.com/session/Qm5M11m6MEz
LOCATION:D.apache.openoffice
SUMMARY:Apache OpenOffice Website CMS
CLASS:PUBLIC
DESCRIPTION:https://calendify.com/session/Qm5M11m6MEz
DTSTAMP:20260419T223547Z
CREATED:20210117T190818Z
LAST-MODIFIED:20210208T224802Z
END:VEVENT
END:VCALENDAR