BEGIN:VCALENDAR
VERSION:2.0
PRODID:calendify.com
BEGIN:VEVENT
UID:calendify-session-Qm5M11olMEz
DTSTART:20210206T160000Z
SEQUENCE:0
TRANSP:OPAQUE
DTEND:20210206T170000Z
URL:https://calendify.com/session/Qm5M11olMEz
LOCATION:D.zig
SUMMARY:Create an Android Application with Zig
CLASS:PUBLIC
DESCRIPTION:https://calendify.com/session/Qm5M11olMEz
DTSTAMP:20260419T223446Z
CREATED:20210111T170319Z
LAST-MODIFIED:20210208T224803Z
END:VEVENT
END:VCALENDAR