BEGIN:VCALENDAR
VERSION:2.0
PRODID:calendify.com
BEGIN:VEVENT
UID:calendify-session-Qm5M11wKMEz
DTSTART:20210308T133000Z
SEQUENCE:0
TRANSP:OPAQUE
URL:https://calendify.com/session/Qm5M11wKMEz
LOCATION:Art and Media
SUMMARY:The Emoji Film Screening
CLASS:PUBLIC
DESCRIPTION:https://calendify.com/session/Qm5M11wKMEz
DTSTAMP:20260424T195814Z
CREATED:20210426T094602Z
LAST-MODIFIED:20210426T094927Z
END:VEVENT
END:VCALENDAR