BEGIN:VCALENDAR
VERSION:2.0
PRODID:calendify.com
BEGIN:VEVENT
UID:calendify-session-Qm5M126egEz
DTSTART:20200202T083000Z
SEQUENCE:0
TRANSP:OPAQUE
DTEND:20200202T090000Z
URL:https://calendify.com/session/Qm5M126egEz
LOCATION:UA2.114 (Baudoux)
SUMMARY:Thunderbird in 2020 and Beyond
CLASS:PUBLIC
DESCRIPTION:https://calendify.com/session/Qm5M126egEz
DTSTAMP:20260424T035923Z
CREATED:20200513T234735Z
LAST-MODIFIED:20210426T093310Z
END:VEVENT
END:VCALENDAR