BEGIN:VCALENDAR
VERSION:2.0
PRODID:calendify.com
BEGIN:VEVENT
UID:calendify-session-Qm5M12E7gEz
DTSTART:20180511T211500Z
SEQUENCE:0
TRANSP:OPAQUE
DTEND:20180511T214500Z
URL:https://calendify.com/session/Qm5M12E7gEz
LOCATION:ZKM_Vortragssaal
SUMMARY:F.U.C.K. Germany - FLTI* und Computer Kram
CLASS:PUBLIC
DESCRIPTION:https://calendify.com/session/Qm5M12E7gEz
DTSTAMP:20260422T015416Z
CREATED:20200513T011828Z
LAST-MODIFIED:20200513T011828Z
END:VEVENT
END:VCALENDAR