BEGIN:VCALENDAR
VERSION:2.0
PRODID:calendify.com
BEGIN:VEVENT
UID:calendify-session-Qm5M12YRgEz
DTSTART:20200202T110000Z
SEQUENCE:0
TRANSP:OPAQUE
DTEND:20200202T112500Z
URL:https://calendify.com/session/Qm5M12YRgEz
LOCATION:UB5.132
SUMMARY:Predictive Maintenance
CLASS:PUBLIC
DESCRIPTION:https://calendify.com/session/Qm5M12YRgEz
DTSTAMP:20260423T020928Z
CREATED:20200513T234735Z
LAST-MODIFIED:20210426T093310Z
END:VEVENT
END:VCALENDAR