BEGIN:VCALENDAR
VERSION:2.0
PRODID:calendify.com
BEGIN:VEVENT
UID:calendify-session-Qm5M12mKgEz
DTSTART:20200201T110000Z
SEQUENCE:0
TRANSP:OPAQUE
DTEND:20200201T115000Z
URL:https://calendify.com/session/Qm5M12mKgEz
LOCATION:K.1.105 (La Fontaine)
SUMMARY:The Ethics Behind Your IoT
CLASS:PUBLIC
DESCRIPTION:https://calendify.com/session/Qm5M12mKgEz
DTSTAMP:20260420T071813Z
CREATED:20200513T234730Z
LAST-MODIFIED:20210426T093308Z
END:VEVENT
END:VCALENDAR