BEGIN:VCALENDAR
VERSION:2.0
PRODID:calendify.com
BEGIN:VEVENT
UID:calendify-session-Qm5M12pRgEz
DTSTART:20190822T102000Z
SEQUENCE:0
TRANSP:OPAQUE
DTEND:20190822T102500Z
URL:https://calendify.com/session/Qm5M12pRgEz
LOCATION:Meitner
SUMMARY:Eine Wende für flexible Verkehrssysteme
CLASS:PUBLIC
DESCRIPTION:https://calendify.com/session/Qm5M12pRgEz
DTSTAMP:20260422T171657Z
CREATED:20200513T001655Z
LAST-MODIFIED:20200513T003255Z
END:VEVENT
END:VCALENDAR