BEGIN:VCALENDAR
VERSION:2.0
PRODID:calendify.com
BEGIN:VEVENT
UID:calendify-session-Qm5M12qegEz
DTSTART:20190601T113000Z
SEQUENCE:0
TRANSP:OPAQUE
DTEND:20190601T123000Z
URL:https://calendify.com/session/Qm5M12qegEz
LOCATION:HfG_Studio
SUMMARY:Monitoring mit einer Kiste\, aber mehreren Leuten
CLASS:PUBLIC
DESCRIPTION:https://calendify.com/session/Qm5M12qegEz
DTSTAMP:20260422T023327Z
CREATED:20200509T115115Z
LAST-MODIFIED:20200509T115115Z
END:VEVENT
END:VCALENDAR