BEGIN:VCALENDAR
VERSION:2.0
PRODID:calendify.com
BEGIN:VEVENT
UID:calendify-session-Qm5M1A8eMEz
DTSTART:20220608T131500Z
SEQUENCE:0
TRANSP:OPAQUE
DTEND:20220608T141500Z
URL:https://calendify.com/session/Qm5M1A8eMEz
LOCATION:Meetup Red
SUMMARY:Purple Code: Feminist Discourses & Critical Tech Research // Weizen
 baum // bpb Cooperation
CLASS:PUBLIC
DESCRIPTION:https://calendify.com/session/Qm5M1A8eMEz
DTSTAMP:20260424T061956Z
CREATED:20220607T230712Z
LAST-MODIFIED:20220613T235204Z
END:VEVENT
END:VCALENDAR