BEGIN:VCALENDAR
VERSION:2.0
PRODID:calendify.com
BEGIN:VEVENT
UID:calendify-session-Qm5M1AVeMEz
DTSTART:20161229T214500Z
SEQUENCE:0
TRANSP:OPAQUE
DTEND:20161229T221500Z
URL:https://calendify.com/session/Qm5M1AVeMEz
LOCATION:Saal G
SUMMARY:Edible Soft Robotics
CLASS:PUBLIC
DESCRIPTION:https://calendify.com/session/Qm5M1AVeMEz
DTSTAMP:20260420T200540Z
CREATED:20220415T135303Z
LAST-MODIFIED:20220415T135303Z
END:VEVENT
END:VCALENDAR