BEGIN:VCALENDAR
VERSION:2.0
PRODID:calendify.com
BEGIN:VEVENT
UID:calendify-session-Qm5M1AX0MEz
DTSTART:20220521T170000Z
SEQUENCE:0
TRANSP:OPAQUE
DTEND:20220521T180000Z
URL:https://calendify.com/session/Qm5M1AX0MEz
LOCATION:Vortragssaal
SUMMARY:Daten helfen heilen? Warum die elektronische Patientenakte nicht ge
 sünder macht
CLASS:PUBLIC
DESCRIPTION:https://calendify.com/session/Qm5M1AX0MEz
DTSTAMP:20260423T173945Z
CREATED:20220502T005752Z
LAST-MODIFIED:20220521T215002Z
END:VEVENT
END:VCALENDAR