BEGIN:VCALENDAR
VERSION:2.0
PRODID:calendify.com
BEGIN:VEVENT
UID:calendify-session-Qm5M1BDKgEz
DTSTART:20210520T131000Z
SEQUENCE:0
TRANSP:OPAQUE
DTEND:20210520T133000Z
URL:https://calendify.com/session/Qm5M1BDKgEz
LOCATION:Kanal 2
SUMMARY:Where Did the 3D Printing Revolution Go?
CLASS:PUBLIC
DESCRIPTION:https://calendify.com/session/Qm5M1BDKgEz
DTSTAMP:20260420T095817Z
CREATED:20210514T180835Z
LAST-MODIFIED:20210524T215002Z
END:VEVENT
END:VCALENDAR