BEGIN:VCALENDAR
VERSION:2.0
PRODID:calendify.com
BEGIN:VEVENT
UID:calendify-session-Qm5M1BNrgEz
DTSTART:20211229T233000Z
SEQUENCE:0
TRANSP:OPAQUE
DTEND:20211230T013000Z
URL:https://calendify.com/session/Qm5M1BNrgEz
LOCATION:Bierscheune
SUMMARY:der Warst
CLASS:PUBLIC
DESCRIPTION:https://calendify.com/session/Qm5M1BNrgEz
DTSTAMP:20260420T185022Z
CREATED:20211223T113029Z
LAST-MODIFIED:20211230T225002Z
END:VEVENT
END:VCALENDAR