BEGIN:VCALENDAR
VERSION:2.0
PRODID:calendify.com
BEGIN:VEVENT
UID:calendify-session-Qm5M1BQrgEz
DTSTART:20210308T170000Z
SEQUENCE:0
TRANSP:OPAQUE
DTEND:20210308T180000Z
URL:https://calendify.com/session/Qm5M1BQrgEz
LOCATION:Broadcast Talks
SUMMARY:AI & Power: A Dialogues & Debates panel
CLASS:PUBLIC
DESCRIPTION:https://calendify.com/session/Qm5M1BQrgEz
DTSTAMP:20260422T192345Z
CREATED:20210426T094926Z
LAST-MODIFIED:20210426T094926Z
END:VEVENT
END:VCALENDAR