BEGIN:VCALENDAR
VERSION:2.0
PRODID:calendify.com
BEGIN:VEVENT
UID:calendify-session-Qm5M1BV7gEz
DTSTART:20210520T125500Z
SEQUENCE:0
TRANSP:OPAQUE
DTEND:20210520T132000Z
URL:https://calendify.com/session/Qm5M1BV7gEz
LOCATION:Kanal 1
SUMMARY:Kino anytime & everywhere: Die Eroberung des Streaming Universums
CLASS:PUBLIC
DESCRIPTION:https://calendify.com/session/Qm5M1BV7gEz
DTSTAMP:20260423T004713Z
CREATED:20210508T131338Z
LAST-MODIFIED:20210524T215002Z
END:VEVENT
END:VCALENDAR