BEGIN:VCALENDAR
VERSION:2.0
PRODID:calendify.com
BEGIN:VEVENT
UID:calendify-session-Qm5M1BeegEz
DTSTART:20210312T144000Z
SEQUENCE:0
TRANSP:OPAQUE
DTEND:20210312T154000Z
URL:https://calendify.com/session/Qm5M1BeegEz
LOCATION:Zoom Room 6A
SUMMARY:#SheTransformsTech: A Solutions Circle for Gender Justice in Tech
CLASS:PUBLIC
DESCRIPTION:https://calendify.com/session/Qm5M1BeegEz
DTSTAMP:20260422T100538Z
CREATED:20210426T094928Z
LAST-MODIFIED:20210426T094928Z
END:VEVENT
END:VCALENDAR