BEGIN:VCALENDAR
VERSION:2.0
PRODID:calendify.com
BEGIN:VEVENT
UID:calendify-session-Qm5M1BmzgEz
DTSTART:20211227T203000Z
SEQUENCE:0
TRANSP:OPAQUE
DTEND:20211227T212900Z
URL:https://calendify.com/session/Qm5M1BmzgEz
LOCATION:Haecksen Zur großartige Ada
SUMMARY:Q&A Operation Mindfuck Vol. 5
CLASS:PUBLIC
DESCRIPTION:https://calendify.com/session/Qm5M1BmzgEz
DTSTAMP:20260421T012939Z
CREATED:20211220T014016Z
LAST-MODIFIED:20211230T225002Z
END:VEVENT
END:VCALENDAR