BEGIN:VCALENDAR
VERSION:2.0
PRODID:calendify.com
BEGIN:VEVENT
UID:calendify-session-Qm5M1BpKgEz
DTSTART:20210521T080000Z
SEQUENCE:0
TRANSP:OPAQUE
DTEND:20210521T120000Z
URL:https://calendify.com/session/Qm5M1BpKgEz
LOCATION:Civic Coding
SUMMARY:KI für alle: Gemeinsam ein lebendiges Ökosystem gestalten
CLASS:PUBLIC
DESCRIPTION:https://calendify.com/session/Qm5M1BpKgEz
DTSTAMP:20260422T233153Z
CREATED:20210510T164316Z
LAST-MODIFIED:20210524T215002Z
END:VEVENT
END:VCALENDAR