BEGIN:VCALENDAR
VERSION:2.0
PRODID:calendify.com
BEGIN:VEVENT
UID:calendify-session-Qm5M1BrrgEz
DTSTART:20211230T120000Z
SEQUENCE:0
TRANSP:OPAQUE
DTEND:20211230T130000Z
URL:https://calendify.com/session/Qm5M1BrrgEz
LOCATION:ChaosZone TV
SUMMARY:Software Architecture 101 - A Software Architecture Primer for Hack
 ers and Makers
CLASS:PUBLIC
DESCRIPTION:https://calendify.com/session/Qm5M1BrrgEz
DTSTAMP:20260420T112414Z
CREATED:20211220T014018Z
LAST-MODIFIED:20211230T225002Z
END:VEVENT
END:VCALENDAR