BEGIN:VCALENDAR
VERSION:2.0
PRODID:calendify.com
BEGIN:VEVENT
UID:calendify-session-Qm5M1K2l4Ez
DTSTART:20221229T120000Z
SEQUENCE:0
TRANSP:OPAQUE
DTEND:20221229T130000Z
URL:https://calendify.com/session/Qm5M1K2l4Ez
LOCATION:HIP - Track 1 - Room 5
SUMMARY:Das ist globales Hardware Hacking in Parallel
CLASS:PUBLIC
DESCRIPTION:https://calendify.com/session/Qm5M1K2l4Ez
DTSTAMP:20260423T214800Z
CREATED:20221218T163040Z
LAST-MODIFIED:20221230T225002Z
END:VEVENT
END:VCALENDAR