BEGIN:VCALENDAR
VERSION:2.0
PRODID:calendify.com
BEGIN:VEVENT
UID:calendify-session-Qm5M1Km04Ez
DTSTART:20230608T153000Z
SEQUENCE:0
TRANSP:OPAQUE
DTEND:20230608T170000Z
URL:https://calendify.com/session/Qm5M1Km04Ez
LOCATION:Raum 208 (HFG)
SUMMARY:Das Mysterium Passwörter und wie man sie (clever) crackt
CLASS:PUBLIC
DESCRIPTION:https://calendify.com/session/Qm5M1Km04Ez
DTSTAMP:20260421T053517Z
CREATED:20230527T091820Z
LAST-MODIFIED:20230611T215002Z
END:VEVENT
END:VCALENDAR