BEGIN:VCALENDAR
VERSION:2.0
PRODID:calendify.com
BEGIN:VEVENT
UID:calendify-session-Qm5M1Kqr4Ez
DTSTART:20221231T103000Z
SEQUENCE:0
TRANSP:OPAQUE
DTEND:20221231T120000Z
URL:https://calendify.com/session/Qm5M1Kqr4Ez
LOCATION:Stände - H2-4.8
SUMMARY:Fachstelle Pop Infostand
CLASS:PUBLIC
DESCRIPTION:https://calendify.com/session/Qm5M1Kqr4Ez
DTSTAMP:20260420T133901Z
CREATED:20221224T133615Z
LAST-MODIFIED:20221230T225007Z
END:VEVENT
END:VCALENDAR