BEGIN:VCALENDAR
VERSION:2.0
PRODID:calendify.com
BEGIN:VEVENT
UID:calendify-session-Qm5M1VPKgEz
DTSTART:20240922T100000Z
SEQUENCE:0
TRANSP:OPAQUE
DTEND:20240922T110000Z
URL:https://calendify.com/session/Qm5M1VPKgEz
LOCATION:IZ
SUMMARY:eigene Webseite entschlacken
CLASS:PUBLIC
DESCRIPTION:https://calendify.com/session/Qm5M1VPKgEz
DTSTAMP:20260423T140121Z
CREATED:20241208T220338Z
LAST-MODIFIED:20241208T220338Z
END:VEVENT
END:VCALENDAR