BEGIN:VCALENDAR
VERSION:2.0
PRODID:calendify.com
BEGIN:VEVENT
UID:calendify-session-Qm5M1VV7gEz
DTSTART:20240921T110000Z
SEQUENCE:0
TRANSP:OPAQUE
DTEND:20240921T114500Z
URL:https://calendify.com/session/Qm5M1VV7gEz
LOCATION:Henny Brenner Saal
SUMMARY:Sequoia PGP: A not quite new implementation of OpenPGP
CLASS:PUBLIC
DESCRIPTION:https://calendify.com/session/Qm5M1VV7gEz
DTSTAMP:20260423T135822Z
CREATED:20241208T220338Z
LAST-MODIFIED:20241208T220338Z
END:VEVENT
END:VCALENDAR