BEGIN:VCALENDAR
VERSION:2.0
PRODID:calendify.com
BEGIN:VEVENT
UID:calendify-session-Qm5M1VvlgEz
DTSTART:20241227T130000Z
SEQUENCE:0
TRANSP:OPAQUE
DTEND:20241227T150000Z
URL:https://calendify.com/session/Qm5M1VvlgEz
LOCATION:CDC Pentagon
SUMMARY:Code-Based Zero-Knowledge Proofs: The Future of Privacy
CLASS:PUBLIC
DESCRIPTION:https://calendify.com/session/Qm5M1VvlgEz
DTSTAMP:20260423T140237Z
CREATED:20241227T141500Z
LAST-MODIFIED:20251019T194651Z
END:VEVENT
END:VCALENDAR