BEGIN:VCALENDAR
VERSION:2.0
PRODID:calendify.com
BEGIN:VEVENT
UID:calendify-session-Qm5M1eQ7MEz
DTSTART:20190921T150000Z
SEQUENCE:0
TRANSP:OPAQUE
DTEND:20190921T154500Z
URL:https://calendify.com/session/Qm5M1eQ7MEz
LOCATION:Großer Saal
SUMMARY:Elektronische Patientenakte
CLASS:PUBLIC
DESCRIPTION:https://calendify.com/session/Qm5M1eQ7MEz
DTSTAMP:20260423T203522Z
CREATED:20200610T174346Z
LAST-MODIFIED:20200610T174346Z
END:VEVENT
END:VCALENDAR