BEGIN:VCALENDAR
VERSION:2.0
PRODID:calendify.com
BEGIN:VEVENT
UID:calendify-session-Qm5M1ea0MEz
DTSTART:20180331T191500Z
SEQUENCE:0
TRANSP:OPAQUE
DTEND:20180331T201500Z
URL:https://calendify.com/session/Qm5M1ea0MEz
LOCATION:Heisenberg 2
SUMMARY:TTCN-3 and Eclipse TITAN for testing protocol stacks
CLASS:PUBLIC
DESCRIPTION:https://calendify.com/session/Qm5M1ea0MEz
DTSTAMP:20260422T180844Z
CREATED:20200520T231946Z
LAST-MODIFIED:20200520T231946Z
END:VEVENT
END:VCALENDAR