BEGIN:VCALENDAR
VERSION:2.0
PRODID:calendify.com
BEGIN:VEVENT
UID:calendify-session-Qm5M1o274Ez
DTSTART:20230720T184500Z
SEQUENCE:0
TRANSP:OPAQUE
DTEND:20230720T201500Z
URL:https://calendify.com/session/Qm5M1o274Ez
LOCATION:Workshopraum
SUMMARY:Lets play Hextraction
CLASS:PUBLIC
DESCRIPTION:https://calendify.com/session/Qm5M1o274Ez
DTSTAMP:20260420T120538Z
CREATED:20230806T113705Z
LAST-MODIFIED:20230806T113705Z
END:VEVENT
END:VCALENDAR