BEGIN:VCALENDAR
VERSION:2.0
PRODID:calendify.com
BEGIN:VEVENT
UID:calendify-session-Qm5M1o564Ez
DTSTART:20231228T153000Z
SEQUENCE:0
TRANSP:OPAQUE
DTEND:20231228T163000Z
URL:https://calendify.com/session/Qm5M1o564Ez
LOCATION:Saal D
SUMMARY:Netzpolitik in der Schweiz Treffen
CLASS:PUBLIC
DESCRIPTION:https://calendify.com/session/Qm5M1o564Ez
DTSTAMP:20260423T060137Z
CREATED:20231222T100104Z
LAST-MODIFIED:20240401T142932Z
END:VEVENT
END:VCALENDAR