BEGIN:VCALENDAR
VERSION:2.0
PRODID:calendify.com
BEGIN:VEVENT
UID:calendify-session-Qm5M1oDz4Ez
DTSTART:20231230T100000Z
SEQUENCE:0
TRANSP:OPAQUE
DTEND:20231230T104000Z
URL:https://calendify.com/session/Qm5M1oDz4Ez
LOCATION:Saal 1
SUMMARY:Fortbildung Cyber-Astrologie & KI-Karma
CLASS:PUBLIC
DESCRIPTION:https://calendify.com/session/Qm5M1oDz4Ez
DTSTAMP:20260423T020253Z
CREATED:20231215T204819Z
LAST-MODIFIED:20240401T142933Z
END:VEVENT
END:VCALENDAR