BEGIN:VCALENDAR
VERSION:2.0
PRODID:calendify.com
BEGIN:VEVENT
UID:calendify-session-Qm5M1oEr4Ez
DTSTART:20231228T173000Z
SEQUENCE:0
TRANSP:OPAQUE
DTEND:20231228T180000Z
URL:https://calendify.com/session/Qm5M1oEr4Ez
LOCATION:Kidspace - Saal B
SUMMARY:GuteN8Geschichten - Tag 2
CLASS:PUBLIC
DESCRIPTION:https://calendify.com/session/Qm5M1oEr4Ez
DTSTAMP:20260423T031236Z
CREATED:20231221T004754Z
LAST-MODIFIED:20240401T142932Z
END:VEVENT
END:VCALENDAR