BEGIN:VCALENDAR
VERSION:2.0
PRODID:calendify.com
BEGIN:VEVENT
UID:calendify-session-Qm5M1oJK4Ez
DTSTART:20240330T200000Z
SEQUENCE:0
TRANSP:OPAQUE
DTEND:20240330T220000Z
URL:https://calendify.com/session/Qm5M1oJK4Ez
LOCATION:Party Praetoria (Ohren) - E007
SUMMARY:Downtempo DJ Set
CLASS:PUBLIC
DESCRIPTION:https://calendify.com/session/Qm5M1oJK4Ez
DTSTAMP:20260421T154638Z
CREATED:20240328T125150Z
LAST-MODIFIED:20240401T142841Z
END:VEVENT
END:VCALENDAR