BEGIN:VCALENDAR
VERSION:2.0
PRODID:calendify.com
BEGIN:VEVENT
UID:calendify-session-Qm5M1oNR4Ez
DTSTART:20231230T150000Z
SEQUENCE:0
TRANSP:OPAQUE
DTEND:20231230T160000Z
URL:https://calendify.com/session/Qm5M1oNR4Ez
LOCATION:Saal E
SUMMARY:Egan conjecture holds
CLASS:PUBLIC
DESCRIPTION:https://calendify.com/session/Qm5M1oNR4Ez
DTSTAMP:20260423T044558Z
CREATED:20231227T001002Z
LAST-MODIFIED:20240401T142934Z
END:VEVENT
END:VCALENDAR