BEGIN:VCALENDAR
VERSION:2.0
PRODID:calendify.com
BEGIN:VEVENT
UID:calendify-session-Qm5M1oRP4Ez
DTSTART:20231230T100000Z
SEQUENCE:0
TRANSP:OPAQUE
DTEND:20231230T104000Z
URL:https://calendify.com/session/Qm5M1oRP4Ez
LOCATION:Saal Granville
SUMMARY:Making homebrew for your very own Vector Super Computer
CLASS:PUBLIC
DESCRIPTION:https://calendify.com/session/Qm5M1oRP4Ez
DTSTAMP:20260423T140136Z
CREATED:20231215T204822Z
LAST-MODIFIED:20240401T142934Z
END:VEVENT
END:VCALENDAR