BEGIN:VCALENDAR
VERSION:2.0
PRODID:calendify.com
BEGIN:VEVENT
UID:calendify-session-Qm5M1oYz4Ez
DTSTART:20240503T160000Z
SEQUENCE:0
TRANSP:OPAQUE
DTEND:20240503T165000Z
URL:https://calendify.com/session/Qm5M1oYz4Ez
LOCATION:Kino 5
SUMMARY:Functional correctness -- Haskell-ing your way to reliable code
CLASS:PUBLIC
DESCRIPTION:https://calendify.com/session/Qm5M1oYz4Ez
DTSTAMP:20260420T195953Z
CREATED:20240531T124354Z
LAST-MODIFIED:20240531T124354Z
END:VEVENT
END:VCALENDAR