BEGIN:VCALENDAR
VERSION:2.0
PRODID:calendify.com
BEGIN:VEVENT
UID:calendify-session-Qm5M1oje4Ez
DTSTART:20231227T110000Z
SEQUENCE:0
TRANSP:OPAQUE
DTEND:20231227T115000Z
URL:https://calendify.com/session/Qm5M1oje4Ez
LOCATION:Pseudoroom
SUMMARY:Subversive Kommunikation im öffentlichen Raum (Kommunikationsgueri
 lla)
CLASS:PUBLIC
DESCRIPTION:https://calendify.com/session/Qm5M1oje4Ez
DTSTAMP:20260423T194841Z
CREATED:20231226T002002Z
LAST-MODIFIED:20240401T142932Z
END:VEVENT
END:VCALENDAR