BEGIN:VCALENDAR
VERSION:2.0
PRODID:calendify.com
BEGIN:VEVENT
UID:calendify-session-Qm5M1qyzMEz
DTSTART:20241228T170000Z
SEQUENCE:0
TRANSP:OPAQUE
DTEND:20241228T171500Z
URL:https://calendify.com/session/Qm5M1qyzMEz
LOCATION:Hackertours Desk
SUMMARY:Alter Elbtunnel (Day 2 German)
CLASS:PUBLIC
DESCRIPTION:https://calendify.com/session/Qm5M1qyzMEz
DTSTAMP:20260423T122636Z
CREATED:20241227T141506Z
LAST-MODIFIED:20250101T225002Z
END:VEVENT
END:VCALENDAR