BEGIN:VCALENDAR
VERSION:2.0
PRODID:calendify.com
BEGIN:VEVENT
UID:calendify-session-QnkOqA15Oo0
DTSTART:20180511T153000Z
SEQUENCE:0
TRANSP:OPAQUE
DTEND:20180511T163000Z
URL:https://calendify.com/session/QnkOqA15Oo0
LOCATION:HfG_Studio
SUMMARY:Go für ProgrammiererInnen
CLASS:PUBLIC
DESCRIPTION:https://calendify.com/session/QnkOqA15Oo0
DTSTAMP:20260422T015620Z
CREATED:20200513T011827Z
LAST-MODIFIED:20200513T011827Z
END:VEVENT
END:VCALENDAR